BEGIN:VCALENDAR
VERSION:2.0
PRODID:-//Tukios.com/
BEGIN:VEVENT
UID:cba0511b-fd62-4864-87bf-e4b82f440e43@www.crabielparkwest.com
DTSTAMP:20260422T210458Z
DTSTART:20260502T143000Z
DTEND:20260502T153000Z
SUMMARY:Memorial Service
DESCRIPTION:
URL:https://www.crabielparkwest.com/obituaries/edward-fleet
LOCATION: 175 Somerset St  New Brunswick NJ 08901
GEO:40.4958187;-74.4511253
END:VEVENT
END:VCALENDAR